BEGIN:VCALENDAR
VERSION:2.0
PRODID:-//wp-events-plugin.com//7.2.3.1//EN
TZID:Australia/Melbourne
X-WR-TIMEZONE:Australia/Melbourne
BEGIN:VEVENT
UID:269@aahs.org.au
DTSTART;TZID=Australia/Melbourne:20260613T100000
DTEND;TZID=Australia/Melbourne:20260613T140000
DTSTAMP:20260422T101213Z
URL:https://aahs.org.au/events/mid-year-mart-2026/
SUMMARY:Mid year Mart 2026
DESCRIPTION:\nIt's Mid Year Mart time! \n\nWe'll be holding our annual\, me
 mbers only\, Mart on Saturday 13 June at our club rooms\, Blackburn Senior
  Citizens Centre\, from 10am to 2pm. Up to 20 tables of bargains\, treasur
 es\, collectables\, tools\, watches\, clocks\, parts\, books &amp\; all th
 ings horological.\n\n&nbsp\;
ATTACH;FMTTYPE=image/jpeg:https://aahs.org.au/wp-content/uploads/2023/12/s
 ale3.jpg
LOCATION:The Pines Senior Citizens Centre\, 25 Central Road\, Blackburn\, V
 ictoria\, 3130\, Australia
GEO:-37.821495;145.154093
X-APPLE-STRUCTURED-LOCATION;VALUE=URI;X-ADDRESS=25 Central Road\, Blackburn
 \, Victoria\, 3130\, Australia;X-APPLE-RADIUS=100;X-TITLE=The Pines Senior
  Citizens Centre:geo:-37.821495,145.154093
END:VEVENT
BEGIN:VTIMEZONE
TZID:Australia/Melbourne
X-LIC-LOCATION:Australia/Melbourne
BEGIN:STANDARD
DTSTART:20260405T020000
TZOFFSETFROM:+1100
TZOFFSETTO:+1000
TZNAME:AEST
END:STANDARD
END:VTIMEZONE
END:VCALENDAR