BEGIN:VCALENDAR
VERSION:2.0
PRODID:-//wp-events-plugin.com//7.2.3.1//EN
TZID:Australia/Melbourne
X-WR-TIMEZONE:Australia/Melbourne
BEGIN:VEVENT
UID:125@aahs.org.au
DTSTART;TZID=Australia/Melbourne:20240416T200000
DTEND;TZID=Australia/Melbourne:20240416T223000
DTSTAMP:20240114T054432Z
URL:https://aahs.org.au/events/monthly-meeting-2-2024-04-16/
SUMMARY:Monthly Meeting
DESCRIPTION:
ATTACH;FMTTYPE=image/jpeg:https://aahs.org.au/wp-content/uploads/2024/01/M
 eeting11.jpeg
LOCATION:The Pines Senior Citizens Centre\, 25 Central Road\, Blackburn\, V
 ictoria\, 3130\, Australia
GEO:-37.821495;145.154093
X-APPLE-STRUCTURED-LOCATION;VALUE=URI;X-ADDRESS=25 Central Road\, Blackburn
 \, Victoria\, 3130\, Australia;X-APPLE-RADIUS=100;X-TITLE=The Pines Senior
  Citizens Centre:geo:-37.821495,145.154093
END:VEVENT
BEGIN:VTIMEZONE
TZID:Australia/Melbourne
X-LIC-LOCATION:Australia/Melbourne
BEGIN:STANDARD
DTSTART:20240407T020000
TZOFFSETFROM:+1100
TZOFFSETTO:+1000
TZNAME:AEST
END:STANDARD
END:VTIMEZONE
END:VCALENDAR